BEGIN:VCALENDAR
VERSION:2.0
PRODID:-//145.223.38.130//NONSGML kigkonsult.se iCalcreator 2.20//
CALSCALE:GREGORIAN
METHOD:PUBLISH
X-WR-TIMEZONE:UTC
BEGIN:VEVENT
UID:event644@Frómista
DTSTAMP:20260422T090125Z
CATEGORIES:Curso
DESCRIPTION:LA ADMINISTRACIÓN CERCA DE TI\nCategoría: Curso\nEnlace: https:
 //www.fromista.com/index.php?option=com_jem&view=event&id=644:la-administr
 acion-cerca-de-ti\n
DTSTART:20260311T110000Z
DTEND:20260311T130000Z
LOCATION:Casa de Cultura
SUMMARY:LA ADMINISTRACIÓN CERCA DE TI
URL:https://www.fromista.com/index.php?option=com_jem&view=event&id=644:la-
 administracion-cerca-de-ti
END:VEVENT
END:VCALENDAR
